BEGIN:VCALENDAR
PRODID:-//MME-Internettechnik//WebPresenter//DE
VERSION:1.0
BEGIN:VEVENT
DTSTART:20260424T030000Z
DTEND:20260424T030000Z
DESCRIPTION;ENCODING=QUOTED-PRINTABLE:Adlerwarte Detmold=0D=0A=0D=0AAusflug der Klassen 4a und 4b zur Adlerwarte nach Detmold=0D=0A=0D=0A
SUMMARY;ENCODING=QUOTED-PRINTABLE:Ausflug der Klassen 4a und 4b zur Adlerwarte nach Detmold
STATUS:NEEDS ACTION
END:VEVENT
END:VCALENDAR
