BEGIN:VCALENDAR
PRODID:-//MME-Internettechnik//WebPresenter//DE
VERSION:1.0
BEGIN:VEVENT
DTSTART:20260429T030000Z
DTEND:20260429T030000Z
DESCRIPTION;ENCODING=QUOTED-PRINTABLE:19.00 Uhr=0D=0A=0D=0AMensa=0D=0A=0D=0AJahreshauptversammlung des Fördervereins der Grundschule Kachtenhausen=0D=0A=0D=0A
SUMMARY;ENCODING=QUOTED-PRINTABLE:Jahreshauptversammlung des Fördervereins der Grundschule Kachtenhausen
STATUS:NEEDS ACTION
END:VEVENT
END:VCALENDAR
